BEGIN:VCALENDAR
VERSION:2.0
PRODID:-//www.ait.org.pt//SITE Rastreio de Saúde Albufeira//PT}
METHOD:REQUEST
BEGIN:VEVENT
UID:20260420T104114-333192735-www.ait.org.pt
DTSTAMP:20260420T104114
DTSTART:20080119T070000Z
DTEND:20081220T200000Z
LOCATION:Bombeiros Voluntários de Albufeira
SUMMARY:Rastreio de Saúde Albufeira
DESCRIPTION: Rastreio de Saúde Albufeira
END:VEVENT
END:VCALENDAR
