BEGIN:VCALENDAR
VERSION:2.0
PRODID:-//www.ait.org.pt//SITE ExpoSaúde e Conferências de Saúde - Amadora//PT}
METHOD:REQUEST
BEGIN:VEVENT
UID:20260420T105613-1107508178-www.ait.org.pt
DTSTAMP:20260420T105613
DTSTART:20151031T070000Z
DTEND:20151115T200000Z
LOCATION:Amadora
SUMMARY:ExpoSaúde e Conferências de Saúde - Amadora
DESCRIPTION: ExpoSaúde e Conferências de Saúde - Amadora
END:VEVENT
END:VCALENDAR
